BEGIN:VCALENDAR
PRODID:-//VisualPursuits//ClubSchedules//EN
VERSION:2.0
METHOD:PUBLISH
X-MS-OLK-FORCEINSPECTOROPEN:TRUE
BEGIN:VEVENT
CREATED:20260401T161000Z
DESCRIPTION:\n
 Chanticleer Garden\n
 \n
 786 Church Road, Wayne, PA 19087\n
 \n
 Finalized details regarding tickets, parking reservations, etc. will 
 be announced shortly.\n
 \n
 Event URL: https://chanticleergarden.org
UID:3169ed0c-cf71-4162-b571-6011e75294e9
DTSTAMP:20260420T095420Z
DTSTART:20260502T140000Z
DTEND:20260502T180000Z
LAST-MODIFIED:20260401T161000Z
PRIORITY:5
SEQUENCE:0
SUMMARY:Field Trip: Chanticleer Garden
TRANSP:OPAQUE
STATUS:NEEDS ACTION
BEGIN:VALARM
TRIGGER:-PT120M
ACTION:DISPLAY
DESCRIPTION:Reminder
END:VALARM
END:VEVENT
END:VCALENDAR
